BEGIN:VCALENDAR
VERSION:2.0
PRODID:-//BDS Wales - ECPv6.15.20//NONSGML v1.0//EN
CALSCALE:GREGORIAN
METHOD:PUBLISH
X-WR-CALNAME:BDS Wales
X-ORIGINAL-URL:https://www.bdswales.org.uk
X-WR-CALDESC:Events for BDS Wales
REFRESH-INTERVAL;VALUE=DURATION:PT1H
X-Robots-Tag:noindex
X-PUBLISHED-TTL:PT1H
BEGIN:VTIMEZONE
TZID:Europe/London
BEGIN:DAYLIGHT
TZOFFSETFROM:+0000
TZOFFSETTO:+0100
TZNAME:BST
DTSTART:20250330T010000
END:DAYLIGHT
BEGIN:STANDARD
TZOFFSETFROM:+0100
TZOFFSETTO:+0000
TZNAME:GMT
DTSTART:20251026T010000
END:STANDARD
BEGIN:DAYLIGHT
TZOFFSETFROM:+0000
TZOFFSETTO:+0100
TZNAME:BST
DTSTART:20260329T010000
END:DAYLIGHT
BEGIN:STANDARD
TZOFFSETFROM:+0100
TZOFFSETTO:+0000
TZNAME:GMT
DTSTART:20261025T010000
END:STANDARD
BEGIN:DAYLIGHT
TZOFFSETFROM:+0000
TZOFFSETTO:+0100
TZNAME:BST
DTSTART:20270328T010000
END:DAYLIGHT
BEGIN:STANDARD
TZOFFSETFROM:+0100
TZOFFSETTO:+0000
TZNAME:GMT
DTSTART:20271031T010000
END:STANDARD
END:VTIMEZONE
BEGIN:VEVENT
DTSTART;VALUE=DATE:20260607
DTEND;VALUE=DATE:20260608
DTSTAMP:20260425T004324
CREATED:20260307T191837Z
LAST-MODIFIED:20260307T191913Z
UID:3408-1780790400-1780876799@www.bdswales.org.uk
SUMMARY:TREC BDS Area 36
DESCRIPTION:TREC BDS Area 36 \nEvent start date and start time \n7th June 2026 – 9.30 onwards \nAll-day event? \nYes \nVenue name \nNew Farm \nVenue address \nCapel Gwnda near Rhydlewis What 3 Words: juggled.firmer.dices \nEvent cost \n£10 + Raffle Please bring Lovely Prizes \nOrganiser contact name \nToby Jackson \nOrganiser telephone number \n07535 936724 \nOrganiser email address \ntobyjackson46@btinternet.com \nBooking & pre-payment essential (refundable if TREC is cancelled) \n  \n 
URL:https://www.bdswales.org.uk/event/trec-bds-area-36/
CATEGORIES:West Wales Area 36
END:VEVENT
BEGIN:VEVENT
DTSTART;VALUE=DATE:20260613
DTEND;VALUE=DATE:20260614
DTSTAMP:20260425T004324
CREATED:20260206T205008Z
LAST-MODIFIED:20260206T205008Z
UID:3301-1781308800-1781395199@www.bdswales.org.uk
SUMMARY:Full Day Clinic With Minta Winn
DESCRIPTION:We are pleased to announce a full day clinic for our members with Minta Winn to be held in the Indoor Arena at Coleg Sir Gar\, Pibwrlwyd Campus\, Carmarthen (SA31 3HY) on Saturday June 13th giving the opportunity for some UK level professional instruction. \nMinta is one of the foremost equestrians in the Driving World\, specialising in the disciplines of Carriage Driving and FEI driving. She is a leading Trainer and instructor as well as being president of the Tandem Club of Great Britain. She has numerous accolades / achievements including the coveted Horse of the Year Show (HOYS) and UK and International Driving Trials. She is a respected Carriage Driving Judge in both the UK and in the United States of America. \nTo have the chance to learn from her in our own locality is an offer not to be missed and see close up what a difference it makes when a truly experienced Driver take the reins and have techniques explained is invaluable. \nMorning and afternoon Sessions include advanced long reining – what\, why and how to achieve positive benefits for you and your equine together with tips for achieving the optimum performance from a driven pony. \nAs part of the demonstration an exceptional schooling experience is offered providing the opportunity for up to six members\, to bring their own pony / horse to be worked by Minta in the Arena with the owners as grooms. \nAs these places are limited they will be reserved by lottery – please put your name forward in a PM to Toby\, together with brief details of you equine\, its experience together with your expectations. \nMembers equines must be reasonably fit\,nicely presented and ideally\, used to being driven in company and in an arena which will have Public Announcement system with announcements\, commentary\, conversation and background music. \nA Risk Assessment will be available. \nTickets are £20.00 per person with no charge for children under 14 and are available in advance thro’ BACS. Payment on the day will not be available. Please confirm your interest early as places will be limited. If there is a surplus above costs\, we will be pleased to offer a partial refund. \nOf course\, Tea\, coffee\, Squash\, biscuits & Clonc will be available. Should you be willing\, please bring a plate for Lunch. \n  \nContact: Toby Jackson Tel: 07535 936724 \n\n  \n  \n  \n  \n  \n  \n  \n  \n 
URL:https://www.bdswales.org.uk/event/full-day-clinic-with-minta-winn/
CATEGORIES:BDS Wales
END:VEVENT
END:VCALENDAR